BEGIN:VCALENDAR
VERSION:2.0
PRODID:-//Staccato Ranch - ECPv6.15.19//NONSGML v1.0//EN
CALSCALE:GREGORIAN
METHOD:PUBLISH
X-WR-CALNAME:Staccato Ranch
X-ORIGINAL-URL:https://staccatoranch.com
X-WR-CALDESC:Events for Staccato Ranch
REFRESH-INTERVAL;VALUE=DURATION:PT1H
X-Robots-Tag:noindex
X-PUBLISHED-TTL:PT1H
BEGIN:VTIMEZONE
TZID:UTC
BEGIN:STANDARD
TZOFFSETFROM:+0000
TZOFFSETTO:+0000
TZNAME:UTC
DTSTART:20250101T000000
END:STANDARD
END:VTIMEZONE
BEGIN:VEVENT
DTSTART;TZID=UTC:20260430T090000
DTEND;TZID=UTC:20260430T170000
DTSTAMP:20260424T081248
CREATED:20260210T154725Z
LAST-MODIFIED:20260410T181957Z
UID:10001258-1777539600-1777568400@staccatoranch.com
SUMMARY:All You Can Shoot Sporting Clays
DESCRIPTION:All You Can Shoot Sporting Clays\nThursdays from 9 am to 5 pm \n\nIncludes shotgun courses & 5-stand\nOpen to the public – $50 entry fee per shooter\nNo charge for clays\nAmmo not provided – buy or bring your own\n\n 
URL:https://staccatoranch.com/event/all-you-can-shoot-sporting-clays-2/2026-04-30/
LOCATION:Staccato Ranch\, 1275 Co Rd 233\, Florence\, TX\, 76527\, United States
ATTACH;FMTTYPE=image/jpeg:https://staccatoranch.com/wp-content/uploads/2026/02/All-You-Can-Shoot-Banner.jpg
END:VEVENT
BEGIN:VEVENT
DTSTART;TZID=UTC:20260507T090000
DTEND;TZID=UTC:20260507T170000
DTSTAMP:20260424T081248
CREATED:20260210T154725Z
LAST-MODIFIED:20260410T181957Z
UID:10001259-1778144400-1778173200@staccatoranch.com
SUMMARY:All You Can Shoot Sporting Clays
DESCRIPTION:All You Can Shoot Sporting Clays\nThursdays from 9 am to 5 pm \n\nIncludes shotgun courses & 5-stand\nOpen to the public – $50 entry fee per shooter\nNo charge for clays\nAmmo not provided – buy or bring your own\n\n 
URL:https://staccatoranch.com/event/all-you-can-shoot-sporting-clays-2/2026-05-07/
LOCATION:Staccato Ranch\, 1275 Co Rd 233\, Florence\, TX\, 76527\, United States
ATTACH;FMTTYPE=image/jpeg:https://staccatoranch.com/wp-content/uploads/2026/02/All-You-Can-Shoot-Banner.jpg
END:VEVENT
BEGIN:VEVENT
DTSTART;TZID=UTC:20260514T090000
DTEND;TZID=UTC:20260514T170000
DTSTAMP:20260424T081248
CREATED:20260210T154725Z
LAST-MODIFIED:20260410T181957Z
UID:10001260-1778749200-1778778000@staccatoranch.com
SUMMARY:All You Can Shoot Sporting Clays
DESCRIPTION:All You Can Shoot Sporting Clays\nThursdays from 9 am to 5 pm \n\nIncludes shotgun courses & 5-stand\nOpen to the public – $50 entry fee per shooter\nNo charge for clays\nAmmo not provided – buy or bring your own\n\n 
URL:https://staccatoranch.com/event/all-you-can-shoot-sporting-clays-2/2026-05-14/
LOCATION:Staccato Ranch\, 1275 Co Rd 233\, Florence\, TX\, 76527\, United States
ATTACH;FMTTYPE=image/jpeg:https://staccatoranch.com/wp-content/uploads/2026/02/All-You-Can-Shoot-Banner.jpg
END:VEVENT
BEGIN:VEVENT
DTSTART;TZID=UTC:20260521T090000
DTEND;TZID=UTC:20260521T170000
DTSTAMP:20260424T081248
CREATED:20260210T154725Z
LAST-MODIFIED:20260410T181957Z
UID:10001261-1779354000-1779382800@staccatoranch.com
SUMMARY:All You Can Shoot Sporting Clays
DESCRIPTION:All You Can Shoot Sporting Clays\nThursdays from 9 am to 5 pm \n\nIncludes shotgun courses & 5-stand\nOpen to the public – $50 entry fee per shooter\nNo charge for clays\nAmmo not provided – buy or bring your own\n\n 
URL:https://staccatoranch.com/event/all-you-can-shoot-sporting-clays-2/2026-05-21/
LOCATION:Staccato Ranch\, 1275 Co Rd 233\, Florence\, TX\, 76527\, United States
ATTACH;FMTTYPE=image/jpeg:https://staccatoranch.com/wp-content/uploads/2026/02/All-You-Can-Shoot-Banner.jpg
END:VEVENT
BEGIN:VEVENT
DTSTART;TZID=UTC:20260528T090000
DTEND;TZID=UTC:20260528T170000
DTSTAMP:20260424T081248
CREATED:20260210T154725Z
LAST-MODIFIED:20260410T181957Z
UID:10001262-1779958800-1779987600@staccatoranch.com
SUMMARY:All You Can Shoot Sporting Clays
DESCRIPTION:All You Can Shoot Sporting Clays\nThursdays from 9 am to 5 pm \n\nIncludes shotgun courses & 5-stand\nOpen to the public – $50 entry fee per shooter\nNo charge for clays\nAmmo not provided – buy or bring your own\n\n 
URL:https://staccatoranch.com/event/all-you-can-shoot-sporting-clays-2/2026-05-28/
LOCATION:Staccato Ranch\, 1275 Co Rd 233\, Florence\, TX\, 76527\, United States
ATTACH;FMTTYPE=image/jpeg:https://staccatoranch.com/wp-content/uploads/2026/02/All-You-Can-Shoot-Banner.jpg
END:VEVENT
BEGIN:VEVENT
DTSTART;TZID=UTC:20260604T090000
DTEND;TZID=UTC:20260604T170000
DTSTAMP:20260424T081248
CREATED:20260210T154725Z
LAST-MODIFIED:20260410T181957Z
UID:10001263-1780563600-1780592400@staccatoranch.com
SUMMARY:All You Can Shoot Sporting Clays
DESCRIPTION:All You Can Shoot Sporting Clays\nThursdays from 9 am to 5 pm \n\nIncludes shotgun courses & 5-stand\nOpen to the public – $50 entry fee per shooter\nNo charge for clays\nAmmo not provided – buy or bring your own\n\n 
URL:https://staccatoranch.com/event/all-you-can-shoot-sporting-clays-2/2026-06-04/
LOCATION:Staccato Ranch\, 1275 Co Rd 233\, Florence\, TX\, 76527\, United States
ATTACH;FMTTYPE=image/jpeg:https://staccatoranch.com/wp-content/uploads/2026/02/All-You-Can-Shoot-Banner.jpg
END:VEVENT
BEGIN:VEVENT
DTSTART;TZID=UTC:20260611T090000
DTEND;TZID=UTC:20260611T170000
DTSTAMP:20260424T081248
CREATED:20260210T154725Z
LAST-MODIFIED:20260410T181957Z
UID:10001264-1781168400-1781197200@staccatoranch.com
SUMMARY:All You Can Shoot Sporting Clays
DESCRIPTION:All You Can Shoot Sporting Clays\nThursdays from 9 am to 5 pm \n\nIncludes shotgun courses & 5-stand\nOpen to the public – $50 entry fee per shooter\nNo charge for clays\nAmmo not provided – buy or bring your own\n\n 
URL:https://staccatoranch.com/event/all-you-can-shoot-sporting-clays-2/2026-06-11/
LOCATION:Staccato Ranch\, 1275 Co Rd 233\, Florence\, TX\, 76527\, United States
ATTACH;FMTTYPE=image/jpeg:https://staccatoranch.com/wp-content/uploads/2026/02/All-You-Can-Shoot-Banner.jpg
END:VEVENT
BEGIN:VEVENT
DTSTART;TZID=UTC:20260618T090000
DTEND;TZID=UTC:20260618T170000
DTSTAMP:20260424T081248
CREATED:20260210T154725Z
LAST-MODIFIED:20260410T181957Z
UID:10001265-1781773200-1781802000@staccatoranch.com
SUMMARY:All You Can Shoot Sporting Clays
DESCRIPTION:All You Can Shoot Sporting Clays\nThursdays from 9 am to 5 pm \n\nIncludes shotgun courses & 5-stand\nOpen to the public – $50 entry fee per shooter\nNo charge for clays\nAmmo not provided – buy or bring your own\n\n 
URL:https://staccatoranch.com/event/all-you-can-shoot-sporting-clays-2/2026-06-18/
LOCATION:Staccato Ranch\, 1275 Co Rd 233\, Florence\, TX\, 76527\, United States
ATTACH;FMTTYPE=image/jpeg:https://staccatoranch.com/wp-content/uploads/2026/02/All-You-Can-Shoot-Banner.jpg
END:VEVENT
BEGIN:VEVENT
DTSTART;TZID=UTC:20260625T090000
DTEND;TZID=UTC:20260625T170000
DTSTAMP:20260424T081248
CREATED:20260210T154725Z
LAST-MODIFIED:20260410T181957Z
UID:10001266-1782378000-1782406800@staccatoranch.com
SUMMARY:All You Can Shoot Sporting Clays
DESCRIPTION:All You Can Shoot Sporting Clays\nThursdays from 9 am to 5 pm \n\nIncludes shotgun courses & 5-stand\nOpen to the public – $50 entry fee per shooter\nNo charge for clays\nAmmo not provided – buy or bring your own\n\n 
URL:https://staccatoranch.com/event/all-you-can-shoot-sporting-clays-2/2026-06-25/
LOCATION:Staccato Ranch\, 1275 Co Rd 233\, Florence\, TX\, 76527\, United States
ATTACH;FMTTYPE=image/jpeg:https://staccatoranch.com/wp-content/uploads/2026/02/All-You-Can-Shoot-Banner.jpg
END:VEVENT
BEGIN:VEVENT
DTSTART;TZID=UTC:20260702T090000
DTEND;TZID=UTC:20260702T170000
DTSTAMP:20260424T081248
CREATED:20260210T154725Z
LAST-MODIFIED:20260410T181957Z
UID:10001267-1782982800-1783011600@staccatoranch.com
SUMMARY:All You Can Shoot Sporting Clays
DESCRIPTION:All You Can Shoot Sporting Clays\nThursdays from 9 am to 5 pm \n\nIncludes shotgun courses & 5-stand\nOpen to the public – $50 entry fee per shooter\nNo charge for clays\nAmmo not provided – buy or bring your own\n\n 
URL:https://staccatoranch.com/event/all-you-can-shoot-sporting-clays-2/2026-07-02/
LOCATION:Staccato Ranch\, 1275 Co Rd 233\, Florence\, TX\, 76527\, United States
ATTACH;FMTTYPE=image/jpeg:https://staccatoranch.com/wp-content/uploads/2026/02/All-You-Can-Shoot-Banner.jpg
END:VEVENT
BEGIN:VEVENT
DTSTART;TZID=UTC:20260709T090000
DTEND;TZID=UTC:20260709T170000
DTSTAMP:20260424T081248
CREATED:20260210T154725Z
LAST-MODIFIED:20260410T181957Z
UID:10001268-1783587600-1783616400@staccatoranch.com
SUMMARY:All You Can Shoot Sporting Clays
DESCRIPTION:All You Can Shoot Sporting Clays\nThursdays from 9 am to 5 pm \n\nIncludes shotgun courses & 5-stand\nOpen to the public – $50 entry fee per shooter\nNo charge for clays\nAmmo not provided – buy or bring your own\n\n 
URL:https://staccatoranch.com/event/all-you-can-shoot-sporting-clays-2/2026-07-09/
LOCATION:Staccato Ranch\, 1275 Co Rd 233\, Florence\, TX\, 76527\, United States
ATTACH;FMTTYPE=image/jpeg:https://staccatoranch.com/wp-content/uploads/2026/02/All-You-Can-Shoot-Banner.jpg
END:VEVENT
BEGIN:VEVENT
DTSTART;TZID=UTC:20260716T090000
DTEND;TZID=UTC:20260716T170000
DTSTAMP:20260424T081248
CREATED:20260210T154725Z
LAST-MODIFIED:20260410T181957Z
UID:10001269-1784192400-1784221200@staccatoranch.com
SUMMARY:All You Can Shoot Sporting Clays
DESCRIPTION:All You Can Shoot Sporting Clays\nThursdays from 9 am to 5 pm \n\nIncludes shotgun courses & 5-stand\nOpen to the public – $50 entry fee per shooter\nNo charge for clays\nAmmo not provided – buy or bring your own\n\n 
URL:https://staccatoranch.com/event/all-you-can-shoot-sporting-clays-2/2026-07-16/
LOCATION:Staccato Ranch\, 1275 Co Rd 233\, Florence\, TX\, 76527\, United States
ATTACH;FMTTYPE=image/jpeg:https://staccatoranch.com/wp-content/uploads/2026/02/All-You-Can-Shoot-Banner.jpg
END:VEVENT
BEGIN:VEVENT
DTSTART;TZID=UTC:20260723T090000
DTEND;TZID=UTC:20260723T170000
DTSTAMP:20260424T081248
CREATED:20260210T154725Z
LAST-MODIFIED:20260410T181957Z
UID:10001270-1784797200-1784826000@staccatoranch.com
SUMMARY:All You Can Shoot Sporting Clays
DESCRIPTION:All You Can Shoot Sporting Clays\nThursdays from 9 am to 5 pm \n\nIncludes shotgun courses & 5-stand\nOpen to the public – $50 entry fee per shooter\nNo charge for clays\nAmmo not provided – buy or bring your own\n\n 
URL:https://staccatoranch.com/event/all-you-can-shoot-sporting-clays-2/2026-07-23/
LOCATION:Staccato Ranch\, 1275 Co Rd 233\, Florence\, TX\, 76527\, United States
ATTACH;FMTTYPE=image/jpeg:https://staccatoranch.com/wp-content/uploads/2026/02/All-You-Can-Shoot-Banner.jpg
END:VEVENT
BEGIN:VEVENT
DTSTART;TZID=UTC:20260730T090000
DTEND;TZID=UTC:20260730T170000
DTSTAMP:20260424T081248
CREATED:20260210T154725Z
LAST-MODIFIED:20260410T181957Z
UID:10001271-1785402000-1785430800@staccatoranch.com
SUMMARY:All You Can Shoot Sporting Clays
DESCRIPTION:All You Can Shoot Sporting Clays\nThursdays from 9 am to 5 pm \n\nIncludes shotgun courses & 5-stand\nOpen to the public – $50 entry fee per shooter\nNo charge for clays\nAmmo not provided – buy or bring your own\n\n 
URL:https://staccatoranch.com/event/all-you-can-shoot-sporting-clays-2/2026-07-30/
LOCATION:Staccato Ranch\, 1275 Co Rd 233\, Florence\, TX\, 76527\, United States
ATTACH;FMTTYPE=image/jpeg:https://staccatoranch.com/wp-content/uploads/2026/02/All-You-Can-Shoot-Banner.jpg
END:VEVENT
BEGIN:VEVENT
DTSTART;TZID=UTC:20260806T090000
DTEND;TZID=UTC:20260806T170000
DTSTAMP:20260424T081248
CREATED:20260210T154725Z
LAST-MODIFIED:20260410T181957Z
UID:10001272-1786006800-1786035600@staccatoranch.com
SUMMARY:All You Can Shoot Sporting Clays
DESCRIPTION:All You Can Shoot Sporting Clays\nThursdays from 9 am to 5 pm \n\nIncludes shotgun courses & 5-stand\nOpen to the public – $50 entry fee per shooter\nNo charge for clays\nAmmo not provided – buy or bring your own\n\n 
URL:https://staccatoranch.com/event/all-you-can-shoot-sporting-clays-2/2026-08-06/
LOCATION:Staccato Ranch\, 1275 Co Rd 233\, Florence\, TX\, 76527\, United States
ATTACH;FMTTYPE=image/jpeg:https://staccatoranch.com/wp-content/uploads/2026/02/All-You-Can-Shoot-Banner.jpg
END:VEVENT
BEGIN:VEVENT
DTSTART;TZID=UTC:20260808T090000
DTEND;TZID=UTC:20260808T170000
DTSTAMP:20260424T081248
CREATED:20260210T154725Z
LAST-MODIFIED:20260410T181957Z
UID:10001837-1786179600-1786208400@staccatoranch.com
SUMMARY:All You Can Shoot Sporting Clays
DESCRIPTION:All You Can Shoot Sporting Clays\nThursdays from 9 am to 5 pm \n\nIncludes shotgun courses & 5-stand\nOpen to the public – $50 entry fee per shooter\nNo charge for clays\nAmmo not provided – buy or bring your own\n\n 
URL:https://staccatoranch.com/event/all-you-can-shoot-sporting-clays-2/2026-08-08/
LOCATION:Staccato Ranch\, 1275 Co Rd 233\, Florence\, TX\, 76527\, United States
ATTACH;FMTTYPE=image/jpeg:https://staccatoranch.com/wp-content/uploads/2026/02/All-You-Can-Shoot-Banner.jpg
END:VEVENT
BEGIN:VEVENT
DTSTART;TZID=UTC:20260813T090000
DTEND;TZID=UTC:20260813T170000
DTSTAMP:20260424T081248
CREATED:20260210T154725Z
LAST-MODIFIED:20260410T181957Z
UID:10001273-1786611600-1786640400@staccatoranch.com
SUMMARY:All You Can Shoot Sporting Clays
DESCRIPTION:All You Can Shoot Sporting Clays\nThursdays from 9 am to 5 pm \n\nIncludes shotgun courses & 5-stand\nOpen to the public – $50 entry fee per shooter\nNo charge for clays\nAmmo not provided – buy or bring your own\n\n 
URL:https://staccatoranch.com/event/all-you-can-shoot-sporting-clays-2/2026-08-13/
LOCATION:Staccato Ranch\, 1275 Co Rd 233\, Florence\, TX\, 76527\, United States
ATTACH;FMTTYPE=image/jpeg:https://staccatoranch.com/wp-content/uploads/2026/02/All-You-Can-Shoot-Banner.jpg
END:VEVENT
BEGIN:VEVENT
DTSTART;TZID=UTC:20260820T090000
DTEND;TZID=UTC:20260820T170000
DTSTAMP:20260424T081248
CREATED:20260210T154725Z
LAST-MODIFIED:20260410T181957Z
UID:10001274-1787216400-1787245200@staccatoranch.com
SUMMARY:All You Can Shoot Sporting Clays
DESCRIPTION:All You Can Shoot Sporting Clays\nThursdays from 9 am to 5 pm \n\nIncludes shotgun courses & 5-stand\nOpen to the public – $50 entry fee per shooter\nNo charge for clays\nAmmo not provided – buy or bring your own\n\n 
URL:https://staccatoranch.com/event/all-you-can-shoot-sporting-clays-2/2026-08-20/
LOCATION:Staccato Ranch\, 1275 Co Rd 233\, Florence\, TX\, 76527\, United States
ATTACH;FMTTYPE=image/jpeg:https://staccatoranch.com/wp-content/uploads/2026/02/All-You-Can-Shoot-Banner.jpg
END:VEVENT
BEGIN:VEVENT
DTSTART;TZID=UTC:20260827T090000
DTEND;TZID=UTC:20260827T170000
DTSTAMP:20260424T081248
CREATED:20260210T154725Z
LAST-MODIFIED:20260410T181957Z
UID:10001275-1787821200-1787850000@staccatoranch.com
SUMMARY:All You Can Shoot Sporting Clays
DESCRIPTION:All You Can Shoot Sporting Clays\nThursdays from 9 am to 5 pm \n\nIncludes shotgun courses & 5-stand\nOpen to the public – $50 entry fee per shooter\nNo charge for clays\nAmmo not provided – buy or bring your own\n\n 
URL:https://staccatoranch.com/event/all-you-can-shoot-sporting-clays-2/2026-08-27/
LOCATION:Staccato Ranch\, 1275 Co Rd 233\, Florence\, TX\, 76527\, United States
ATTACH;FMTTYPE=image/jpeg:https://staccatoranch.com/wp-content/uploads/2026/02/All-You-Can-Shoot-Banner.jpg
END:VEVENT
BEGIN:VEVENT
DTSTART;TZID=UTC:20260903T090000
DTEND;TZID=UTC:20260903T170000
DTSTAMP:20260424T081248
CREATED:20260210T154725Z
LAST-MODIFIED:20260410T181957Z
UID:10001276-1788426000-1788454800@staccatoranch.com
SUMMARY:All You Can Shoot Sporting Clays
DESCRIPTION:All You Can Shoot Sporting Clays\nThursdays from 9 am to 5 pm \n\nIncludes shotgun courses & 5-stand\nOpen to the public – $50 entry fee per shooter\nNo charge for clays\nAmmo not provided – buy or bring your own\n\n 
URL:https://staccatoranch.com/event/all-you-can-shoot-sporting-clays-2/2026-09-03/
LOCATION:Staccato Ranch\, 1275 Co Rd 233\, Florence\, TX\, 76527\, United States
ATTACH;FMTTYPE=image/jpeg:https://staccatoranch.com/wp-content/uploads/2026/02/All-You-Can-Shoot-Banner.jpg
END:VEVENT
BEGIN:VEVENT
DTSTART;TZID=UTC:20260910T090000
DTEND;TZID=UTC:20260910T170000
DTSTAMP:20260424T081248
CREATED:20260210T154725Z
LAST-MODIFIED:20260410T181957Z
UID:10001277-1789030800-1789059600@staccatoranch.com
SUMMARY:All You Can Shoot Sporting Clays
DESCRIPTION:All You Can Shoot Sporting Clays\nThursdays from 9 am to 5 pm \n\nIncludes shotgun courses & 5-stand\nOpen to the public – $50 entry fee per shooter\nNo charge for clays\nAmmo not provided – buy or bring your own\n\n 
URL:https://staccatoranch.com/event/all-you-can-shoot-sporting-clays-2/2026-09-10/
LOCATION:Staccato Ranch\, 1275 Co Rd 233\, Florence\, TX\, 76527\, United States
ATTACH;FMTTYPE=image/jpeg:https://staccatoranch.com/wp-content/uploads/2026/02/All-You-Can-Shoot-Banner.jpg
END:VEVENT
BEGIN:VEVENT
DTSTART;TZID=UTC:20260917T090000
DTEND;TZID=UTC:20260917T170000
DTSTAMP:20260424T081248
CREATED:20260210T154725Z
LAST-MODIFIED:20260410T181957Z
UID:10001278-1789635600-1789664400@staccatoranch.com
SUMMARY:All You Can Shoot Sporting Clays
DESCRIPTION:All You Can Shoot Sporting Clays\nThursdays from 9 am to 5 pm \n\nIncludes shotgun courses & 5-stand\nOpen to the public – $50 entry fee per shooter\nNo charge for clays\nAmmo not provided – buy or bring your own\n\n 
URL:https://staccatoranch.com/event/all-you-can-shoot-sporting-clays-2/2026-09-17/
LOCATION:Staccato Ranch\, 1275 Co Rd 233\, Florence\, TX\, 76527\, United States
ATTACH;FMTTYPE=image/jpeg:https://staccatoranch.com/wp-content/uploads/2026/02/All-You-Can-Shoot-Banner.jpg
END:VEVENT
BEGIN:VEVENT
DTSTART;TZID=UTC:20260924T090000
DTEND;TZID=UTC:20260924T170000
DTSTAMP:20260424T081248
CREATED:20260210T154725Z
LAST-MODIFIED:20260410T181957Z
UID:10001279-1790240400-1790269200@staccatoranch.com
SUMMARY:All You Can Shoot Sporting Clays
DESCRIPTION:All You Can Shoot Sporting Clays\nThursdays from 9 am to 5 pm \n\nIncludes shotgun courses & 5-stand\nOpen to the public – $50 entry fee per shooter\nNo charge for clays\nAmmo not provided – buy or bring your own\n\n 
URL:https://staccatoranch.com/event/all-you-can-shoot-sporting-clays-2/2026-09-24/
LOCATION:Staccato Ranch\, 1275 Co Rd 233\, Florence\, TX\, 76527\, United States
ATTACH;FMTTYPE=image/jpeg:https://staccatoranch.com/wp-content/uploads/2026/02/All-You-Can-Shoot-Banner.jpg
END:VEVENT
BEGIN:VEVENT
DTSTART;TZID=UTC:20261001T090000
DTEND;TZID=UTC:20261001T170000
DTSTAMP:20260424T081248
CREATED:20260210T154725Z
LAST-MODIFIED:20260410T181957Z
UID:10001280-1790845200-1790874000@staccatoranch.com
SUMMARY:All You Can Shoot Sporting Clays
DESCRIPTION:All You Can Shoot Sporting Clays\nThursdays from 9 am to 5 pm \n\nIncludes shotgun courses & 5-stand\nOpen to the public – $50 entry fee per shooter\nNo charge for clays\nAmmo not provided – buy or bring your own\n\n 
URL:https://staccatoranch.com/event/all-you-can-shoot-sporting-clays-2/2026-10-01/
LOCATION:Staccato Ranch\, 1275 Co Rd 233\, Florence\, TX\, 76527\, United States
ATTACH;FMTTYPE=image/jpeg:https://staccatoranch.com/wp-content/uploads/2026/02/All-You-Can-Shoot-Banner.jpg
END:VEVENT
BEGIN:VEVENT
DTSTART;TZID=UTC:20261008T090000
DTEND;TZID=UTC:20261008T170000
DTSTAMP:20260424T081248
CREATED:20260210T154725Z
LAST-MODIFIED:20260410T181957Z
UID:10001281-1791450000-1791478800@staccatoranch.com
SUMMARY:All You Can Shoot Sporting Clays
DESCRIPTION:All You Can Shoot Sporting Clays\nThursdays from 9 am to 5 pm \n\nIncludes shotgun courses & 5-stand\nOpen to the public – $50 entry fee per shooter\nNo charge for clays\nAmmo not provided – buy or bring your own\n\n 
URL:https://staccatoranch.com/event/all-you-can-shoot-sporting-clays-2/2026-10-08/
LOCATION:Staccato Ranch\, 1275 Co Rd 233\, Florence\, TX\, 76527\, United States
ATTACH;FMTTYPE=image/jpeg:https://staccatoranch.com/wp-content/uploads/2026/02/All-You-Can-Shoot-Banner.jpg
END:VEVENT
BEGIN:VEVENT
DTSTART;TZID=UTC:20261015T090000
DTEND;TZID=UTC:20261015T170000
DTSTAMP:20260424T081248
CREATED:20260210T154725Z
LAST-MODIFIED:20260410T181957Z
UID:10001282-1792054800-1792083600@staccatoranch.com
SUMMARY:All You Can Shoot Sporting Clays
DESCRIPTION:All You Can Shoot Sporting Clays\nThursdays from 9 am to 5 pm \n\nIncludes shotgun courses & 5-stand\nOpen to the public – $50 entry fee per shooter\nNo charge for clays\nAmmo not provided – buy or bring your own\n\n 
URL:https://staccatoranch.com/event/all-you-can-shoot-sporting-clays-2/2026-10-15/
LOCATION:Staccato Ranch\, 1275 Co Rd 233\, Florence\, TX\, 76527\, United States
ATTACH;FMTTYPE=image/jpeg:https://staccatoranch.com/wp-content/uploads/2026/02/All-You-Can-Shoot-Banner.jpg
END:VEVENT
BEGIN:VEVENT
DTSTART;TZID=UTC:20261022T090000
DTEND;TZID=UTC:20261022T170000
DTSTAMP:20260424T081248
CREATED:20260210T154725Z
LAST-MODIFIED:20260410T181957Z
UID:10001283-1792659600-1792688400@staccatoranch.com
SUMMARY:All You Can Shoot Sporting Clays
DESCRIPTION:All You Can Shoot Sporting Clays\nThursdays from 9 am to 5 pm \n\nIncludes shotgun courses & 5-stand\nOpen to the public – $50 entry fee per shooter\nNo charge for clays\nAmmo not provided – buy or bring your own\n\n 
URL:https://staccatoranch.com/event/all-you-can-shoot-sporting-clays-2/2026-10-22/
LOCATION:Staccato Ranch\, 1275 Co Rd 233\, Florence\, TX\, 76527\, United States
ATTACH;FMTTYPE=image/jpeg:https://staccatoranch.com/wp-content/uploads/2026/02/All-You-Can-Shoot-Banner.jpg
END:VEVENT
BEGIN:VEVENT
DTSTART;TZID=UTC:20261029T090000
DTEND;TZID=UTC:20261029T170000
DTSTAMP:20260424T081248
CREATED:20260210T154725Z
LAST-MODIFIED:20260410T181957Z
UID:10001284-1793264400-1793293200@staccatoranch.com
SUMMARY:All You Can Shoot Sporting Clays
DESCRIPTION:All You Can Shoot Sporting Clays\nThursdays from 9 am to 5 pm \n\nIncludes shotgun courses & 5-stand\nOpen to the public – $50 entry fee per shooter\nNo charge for clays\nAmmo not provided – buy or bring your own\n\n 
URL:https://staccatoranch.com/event/all-you-can-shoot-sporting-clays-2/2026-10-29/
LOCATION:Staccato Ranch\, 1275 Co Rd 233\, Florence\, TX\, 76527\, United States
ATTACH;FMTTYPE=image/jpeg:https://staccatoranch.com/wp-content/uploads/2026/02/All-You-Can-Shoot-Banner.jpg
END:VEVENT
BEGIN:VEVENT
DTSTART;TZID=UTC:20261105T090000
DTEND;TZID=UTC:20261105T170000
DTSTAMP:20260424T081248
CREATED:20260210T154725Z
LAST-MODIFIED:20260410T181957Z
UID:10001285-1793869200-1793898000@staccatoranch.com
SUMMARY:All You Can Shoot Sporting Clays
DESCRIPTION:All You Can Shoot Sporting Clays\nThursdays from 9 am to 5 pm \n\nIncludes shotgun courses & 5-stand\nOpen to the public – $50 entry fee per shooter\nNo charge for clays\nAmmo not provided – buy or bring your own\n\n 
URL:https://staccatoranch.com/event/all-you-can-shoot-sporting-clays-2/2026-11-05/
LOCATION:Staccato Ranch\, 1275 Co Rd 233\, Florence\, TX\, 76527\, United States
ATTACH;FMTTYPE=image/jpeg:https://staccatoranch.com/wp-content/uploads/2026/02/All-You-Can-Shoot-Banner.jpg
END:VEVENT
BEGIN:VEVENT
DTSTART;TZID=UTC:20261112T090000
DTEND;TZID=UTC:20261112T170000
DTSTAMP:20260424T081248
CREATED:20260210T154725Z
LAST-MODIFIED:20260410T181957Z
UID:10001286-1794474000-1794502800@staccatoranch.com
SUMMARY:All You Can Shoot Sporting Clays
DESCRIPTION:All You Can Shoot Sporting Clays\nThursdays from 9 am to 5 pm \n\nIncludes shotgun courses & 5-stand\nOpen to the public – $50 entry fee per shooter\nNo charge for clays\nAmmo not provided – buy or bring your own\n\n 
URL:https://staccatoranch.com/event/all-you-can-shoot-sporting-clays-2/2026-11-12/
LOCATION:Staccato Ranch\, 1275 Co Rd 233\, Florence\, TX\, 76527\, United States
ATTACH;FMTTYPE=image/jpeg:https://staccatoranch.com/wp-content/uploads/2026/02/All-You-Can-Shoot-Banner.jpg
END:VEVENT
END:VCALENDAR