BEGIN:VCALENDAR
VERSION:2.0
PRODID:-//Staccato Ranch - ECPv6.15.19//NONSGML v1.0//EN
CALSCALE:GREGORIAN
METHOD:PUBLISH
X-WR-CALNAME:Staccato Ranch
X-ORIGINAL-URL:https://staccatoranch.com
X-WR-CALDESC:Events for Staccato Ranch
REFRESH-INTERVAL;VALUE=DURATION:PT1H
X-Robots-Tag:noindex
X-PUBLISHED-TTL:PT1H
BEGIN:VTIMEZONE
TZID:UTC
BEGIN:STANDARD
TZOFFSETFROM:+0000
TZOFFSETTO:+0000
TZNAME:UTC
DTSTART:20260101T000000
END:STANDARD
END:VTIMEZONE
BEGIN:VEVENT
DTSTART;TZID=UTC:20270802T000000
DTEND;TZID=UTC:20270802T235959
DTSTAMP:20260421T011655
CREATED:20260203T141515Z
LAST-MODIFIED:20260312T121034Z
UID:10000875-1817164800-1817251199@staccatoranch.com
SUMMARY:Closed
DESCRIPTION:
URL:https://staccatoranch.com/event/closed/2027-08-02/
LOCATION:Staccato Ranch\, 1275 Co Rd 233\, Florence\, TX\, 76527\, United States
END:VEVENT
BEGIN:VEVENT
DTSTART;TZID=UTC:20270803T000000
DTEND;TZID=UTC:20270803T235959
DTSTAMP:20260421T011655
CREATED:20260203T141515Z
LAST-MODIFIED:20260312T121034Z
UID:10000876-1817251200-1817337599@staccatoranch.com
SUMMARY:Closed
DESCRIPTION:
URL:https://staccatoranch.com/event/closed/2027-08-03/
LOCATION:Staccato Ranch\, 1275 Co Rd 233\, Florence\, TX\, 76527\, United States
END:VEVENT
BEGIN:VEVENT
DTSTART;TZID=UTC:20270805T090000
DTEND;TZID=UTC:20270805T170000
DTSTAMP:20260421T011655
CREATED:20260210T154725Z
LAST-MODIFIED:20260410T181957Z
UID:10001324-1817456400-1817485200@staccatoranch.com
SUMMARY:All You Can Shoot Sporting Clays
DESCRIPTION:All You Can Shoot Sporting Clays\nThursdays from 9 am to 5 pm \n\nIncludes shotgun courses & 5-stand\nOpen to the public – $50 entry fee per shooter\nNo charge for clays\nAmmo not provided – buy or bring your own\n\n 
URL:https://staccatoranch.com/event/all-you-can-shoot-sporting-clays-2/2027-08-05/
LOCATION:Staccato Ranch\, 1275 Co Rd 233\, Florence\, TX\, 76527\, United States
ATTACH;FMTTYPE=image/jpeg:https://staccatoranch.com/wp-content/uploads/2026/02/All-You-Can-Shoot-Banner.jpg
END:VEVENT
BEGIN:VEVENT
DTSTART;TZID=UTC:20270809T000000
DTEND;TZID=UTC:20270809T235959
DTSTAMP:20260421T011655
CREATED:20260203T141515Z
LAST-MODIFIED:20260312T121034Z
UID:10000877-1817769600-1817855999@staccatoranch.com
SUMMARY:Closed
DESCRIPTION:
URL:https://staccatoranch.com/event/closed/2027-08-09/
LOCATION:Staccato Ranch\, 1275 Co Rd 233\, Florence\, TX\, 76527\, United States
END:VEVENT
BEGIN:VEVENT
DTSTART;TZID=UTC:20270810T000000
DTEND;TZID=UTC:20270810T235959
DTSTAMP:20260421T011655
CREATED:20260203T141515Z
LAST-MODIFIED:20260312T121034Z
UID:10000878-1817856000-1817942399@staccatoranch.com
SUMMARY:Closed
DESCRIPTION:
URL:https://staccatoranch.com/event/closed/2027-08-10/
LOCATION:Staccato Ranch\, 1275 Co Rd 233\, Florence\, TX\, 76527\, United States
END:VEVENT
BEGIN:VEVENT
DTSTART;TZID=UTC:20270812T090000
DTEND;TZID=UTC:20270812T170000
DTSTAMP:20260421T011655
CREATED:20260210T154725Z
LAST-MODIFIED:20260410T181957Z
UID:10001325-1818061200-1818090000@staccatoranch.com
SUMMARY:All You Can Shoot Sporting Clays
DESCRIPTION:All You Can Shoot Sporting Clays\nThursdays from 9 am to 5 pm \n\nIncludes shotgun courses & 5-stand\nOpen to the public – $50 entry fee per shooter\nNo charge for clays\nAmmo not provided – buy or bring your own\n\n 
URL:https://staccatoranch.com/event/all-you-can-shoot-sporting-clays-2/2027-08-12/
LOCATION:Staccato Ranch\, 1275 Co Rd 233\, Florence\, TX\, 76527\, United States
ATTACH;FMTTYPE=image/jpeg:https://staccatoranch.com/wp-content/uploads/2026/02/All-You-Can-Shoot-Banner.jpg
END:VEVENT
BEGIN:VEVENT
DTSTART;TZID=UTC:20270816T000000
DTEND;TZID=UTC:20270816T235959
DTSTAMP:20260421T011655
CREATED:20260203T141515Z
LAST-MODIFIED:20260312T121034Z
UID:10000879-1818374400-1818460799@staccatoranch.com
SUMMARY:Closed
DESCRIPTION:
URL:https://staccatoranch.com/event/closed/2027-08-16/
LOCATION:Staccato Ranch\, 1275 Co Rd 233\, Florence\, TX\, 76527\, United States
END:VEVENT
BEGIN:VEVENT
DTSTART;TZID=UTC:20270817T000000
DTEND;TZID=UTC:20270817T235959
DTSTAMP:20260421T011655
CREATED:20260203T141515Z
LAST-MODIFIED:20260312T121034Z
UID:10000880-1818460800-1818547199@staccatoranch.com
SUMMARY:Closed
DESCRIPTION:
URL:https://staccatoranch.com/event/closed/2027-08-17/
LOCATION:Staccato Ranch\, 1275 Co Rd 233\, Florence\, TX\, 76527\, United States
END:VEVENT
BEGIN:VEVENT
DTSTART;TZID=UTC:20270819T090000
DTEND;TZID=UTC:20270819T170000
DTSTAMP:20260421T011655
CREATED:20260210T154725Z
LAST-MODIFIED:20260410T181957Z
UID:10001326-1818666000-1818694800@staccatoranch.com
SUMMARY:All You Can Shoot Sporting Clays
DESCRIPTION:All You Can Shoot Sporting Clays\nThursdays from 9 am to 5 pm \n\nIncludes shotgun courses & 5-stand\nOpen to the public – $50 entry fee per shooter\nNo charge for clays\nAmmo not provided – buy or bring your own\n\n 
URL:https://staccatoranch.com/event/all-you-can-shoot-sporting-clays-2/2027-08-19/
LOCATION:Staccato Ranch\, 1275 Co Rd 233\, Florence\, TX\, 76527\, United States
ATTACH;FMTTYPE=image/jpeg:https://staccatoranch.com/wp-content/uploads/2026/02/All-You-Can-Shoot-Banner.jpg
END:VEVENT
BEGIN:VEVENT
DTSTART;TZID=UTC:20270823T000000
DTEND;TZID=UTC:20270823T235959
DTSTAMP:20260421T011655
CREATED:20260203T141515Z
LAST-MODIFIED:20260312T121034Z
UID:10000881-1818979200-1819065599@staccatoranch.com
SUMMARY:Closed
DESCRIPTION:
URL:https://staccatoranch.com/event/closed/2027-08-23/
LOCATION:Staccato Ranch\, 1275 Co Rd 233\, Florence\, TX\, 76527\, United States
END:VEVENT
BEGIN:VEVENT
DTSTART;TZID=UTC:20270824T000000
DTEND;TZID=UTC:20270824T235959
DTSTAMP:20260421T011655
CREATED:20260203T141515Z
LAST-MODIFIED:20260312T121034Z
UID:10000882-1819065600-1819151999@staccatoranch.com
SUMMARY:Closed
DESCRIPTION:
URL:https://staccatoranch.com/event/closed/2027-08-24/
LOCATION:Staccato Ranch\, 1275 Co Rd 233\, Florence\, TX\, 76527\, United States
END:VEVENT
BEGIN:VEVENT
DTSTART;TZID=UTC:20270826T090000
DTEND;TZID=UTC:20270826T170000
DTSTAMP:20260421T011655
CREATED:20260210T154725Z
LAST-MODIFIED:20260410T181957Z
UID:10001327-1819270800-1819299600@staccatoranch.com
SUMMARY:All You Can Shoot Sporting Clays
DESCRIPTION:All You Can Shoot Sporting Clays\nThursdays from 9 am to 5 pm \n\nIncludes shotgun courses & 5-stand\nOpen to the public – $50 entry fee per shooter\nNo charge for clays\nAmmo not provided – buy or bring your own\n\n 
URL:https://staccatoranch.com/event/all-you-can-shoot-sporting-clays-2/2027-08-26/
LOCATION:Staccato Ranch\, 1275 Co Rd 233\, Florence\, TX\, 76527\, United States
ATTACH;FMTTYPE=image/jpeg:https://staccatoranch.com/wp-content/uploads/2026/02/All-You-Can-Shoot-Banner.jpg
END:VEVENT
BEGIN:VEVENT
DTSTART;TZID=UTC:20270830T000000
DTEND;TZID=UTC:20270830T235959
DTSTAMP:20260421T011655
CREATED:20260203T141515Z
LAST-MODIFIED:20260312T121034Z
UID:10000883-1819584000-1819670399@staccatoranch.com
SUMMARY:Closed
DESCRIPTION:
URL:https://staccatoranch.com/event/closed/2027-08-30/
LOCATION:Staccato Ranch\, 1275 Co Rd 233\, Florence\, TX\, 76527\, United States
END:VEVENT
BEGIN:VEVENT
DTSTART;TZID=UTC:20270831T000000
DTEND;TZID=UTC:20270831T235959
DTSTAMP:20260421T011655
CREATED:20260203T141515Z
LAST-MODIFIED:20260312T121034Z
UID:10000884-1819670400-1819756799@staccatoranch.com
SUMMARY:Closed
DESCRIPTION:
URL:https://staccatoranch.com/event/closed/2027-08-31/
LOCATION:Staccato Ranch\, 1275 Co Rd 233\, Florence\, TX\, 76527\, United States
END:VEVENT
END:VCALENDAR